BEGIN:VCALENDAR
VERSION:2.0
PRODID:-//Essential Japan //NONSGML Events //EN
CALSCALE:GREGORIAN
X-WR-CALNAME:Essential Japan
BEGIN:VEVENT
CREATED:20250519T152105Z
UID:40663
DTEND;VALUE=DATE:20250615T000000
DTSTART;VALUE=DATE:20250531T000000
DTSTAMP:20260423T102213Z
LOCATION:
DESCRIPTION:A 'Heaven Burns Red' themed pop up shop will open in Gamers stores located in Osaka, Tokyo and Sendai from May 31st.
SUMMARY:Heaven Burns Red pop up shop opens in stores across Japan this month
ORGANIZER:Essential Japan
URL;VALUE=URI:https://essential-japan.com/news/heaven-burns-red-pop-up-shop-opens-in-stores-across-japan-this-month/
TRANSP:OPAQUE
BEGIN:VALARM
ACTION:DISPLAY
TRIGGER;VALUE=DATE-TIME:20260423T102213Z
DESCRIPTION:Reminder for Heaven Burns Red pop up shop opens in stores across Japan this month
END:VALARM
END:VEVENT
END:VCALENDAR
        //Collect output and echo
        