BEGIN:VCALENDAR
VERSION:2.0
PRODID:-//Essential Japan //NONSGML Events //EN
CALSCALE:GREGORIAN
X-WR-CALNAME:Essential Japan
BEGIN:VEVENT
CREATED:20250516T162448Z
UID:39811
DTEND;VALUE=DATE:20250803T000000
DTSTART;VALUE=DATE:20250614T000000
DTSTAMP:20260421T095050Z
LOCATION:
DESCRIPTION:A new 'I Want to Escape from Princess Lessons' pop up shop will open in Tokyo from June 14th and Osaka from July 25th.
SUMMARY:‘I Want to Escape from Princess Lessons’ pop up shop to open in Tokyo and Osaka
ORGANIZER:Essential Japan
URL;VALUE=URI:https://essential-japan.com/news/i-want-to-escape-from-princess-lessons-pop-up-shop-to-open-in-tokyo-and-osaka/
TRANSP:OPAQUE
BEGIN:VALARM
ACTION:DISPLAY
TRIGGER;VALUE=DATE-TIME:20260421T095050Z
DESCRIPTION:Reminder for &#8216\;I Want to Escape from Princess Lessons&#8217\; pop up shop to open in Tokyo and Osaka
END:VALARM
END:VEVENT
END:VCALENDAR
        //Collect output and echo
        