BEGIN:VCALENDAR
VERSION:2.0
PRODID:-//Essential Japan //NONSGML Events //EN
CALSCALE:GREGORIAN
X-WR-CALNAME:Essential Japan
BEGIN:VEVENT
CREATED:20250404T185900Z
UID:28318
DTEND;VALUE=DATE:20250427T000000
DTSTART;VALUE=DATE:20250418T000000
DTSTAMP:20260422T091433Z
LOCATION:
DESCRIPTION:A new pop up shop for Danganronpa & RAIN CODE will open in Namba Marui from the 18th April.
SUMMARY:Danganronpa & RAIN CODE pop up shop opens in Osaka
ORGANIZER:Essential Japan
URL;VALUE=URI:https://essential-japan.com/news/danganronpa-rain-code-pop-up-shop-opens-in-osaka/
TRANSP:OPAQUE
BEGIN:VALARM
ACTION:DISPLAY
TRIGGER;VALUE=DATE-TIME:20260422T091433Z
DESCRIPTION:Reminder for Danganronpa &amp\; RAIN CODE pop up shop opens in Osaka
END:VALARM
END:VEVENT
END:VCALENDAR
        //Collect output and echo
        