BEGIN:VCALENDAR
VERSION:2.0
PRODID:-//Essential Japan //NONSGML Events //EN
CALSCALE:GREGORIAN
X-WR-CALNAME:Essential Japan
BEGIN:VEVENT
CREATED:20250317T155952Z
UID:24996
DTEND;VALUE=DATE:20250406T000000
DTSTART;VALUE=DATE:20250406T000000
DTSTAMP:20260423T131917Z
LOCATION:
DESCRIPTION:The Kanamara Matsuri, or "Festival of the Steel Phallus," is an annual event held in April at the Kanayama Shrine in Kawasaki, Japan.
SUMMARY:Kanamara Penis Festival
ORGANIZER:Essential Japan
URL;VALUE=URI:https://essential-japan.com/news/kanamara-penis-festival/
TRANSP:OPAQUE
BEGIN:VALARM
ACTION:DISPLAY
TRIGGER;VALUE=DATE-TIME:20260423T131917Z
DESCRIPTION:Reminder for Kanamara Penis Festival
END:VALARM
END:VEVENT
END:VCALENDAR
        //Collect output and echo
        