BEGIN:VCALENDAR
VERSION:2.0
PRODID:-//Essential Japan //NONSGML Events //EN
CALSCALE:GREGORIAN
X-WR-CALNAME:Essential Japan
BEGIN:VEVENT
CREATED:20250126T171641Z
UID:19570
DTEND;VALUE=DATE:20250206T000000
DTSTART;VALUE=DATE:20250131T000000
DTSTAMP:20260421T081421Z
LOCATION:
DESCRIPTION:A new Pop Up Shop for Miffy will visit Tokyo between January and February.
SUMMARY:Flower Miffy POP UP SHOP in Shibuya
ORGANIZER:Essential Japan
URL;VALUE=URI:https://essential-japan.com/news/flower-miffy-pop-up-shop-in-shibuya/
TRANSP:OPAQUE
BEGIN:VALARM
ACTION:DISPLAY
TRIGGER;VALUE=DATE-TIME:20260421T081421Z
DESCRIPTION:Reminder for Flower Miffy POP UP SHOP in Shibuya
END:VALARM
END:VEVENT
END:VCALENDAR
        //Collect output and echo
        