BEGIN:VCALENDAR
VERSION:2.0
PRODID:-//Essential Japan //NONSGML Events //EN
CALSCALE:GREGORIAN
X-WR-CALNAME:Essential Japan
BEGIN:VEVENT
CREATED:20250108T164223Z
UID:17078
DTEND;VALUE=DATE:20250126T000000
DTSTART;VALUE=DATE:20250118T000000
DTSTAMP:20260423T120315Z
LOCATION:
DESCRIPTION:A new Pop Up Shop for Mob Psycho 100 will visit Tokyo this January.
SUMMARY:Mob Psycho 100 POP UP SHOP in Shibuya MODI
ORGANIZER:Essential Japan
URL;VALUE=URI:https://essential-japan.com/news/mob-psycho-100-pop-up-shop-in-shibuya-modi/
TRANSP:OPAQUE
BEGIN:VALARM
ACTION:DISPLAY
TRIGGER;VALUE=DATE-TIME:20260423T120315Z
DESCRIPTION:Reminder for Mob Psycho 100 POP UP SHOP in Shibuya MODI
END:VALARM
END:VEVENT
END:VCALENDAR
        //Collect output and echo
        