BEGIN:VCALENDAR
VERSION:2.0
PRODID:-//Essential Japan //NONSGML Events //EN
CALSCALE:GREGORIAN
X-WR-CALNAME:Essential Japan
BEGIN:VEVENT
CREATED:20250107T224227Z
UID:17051
DTEND;VALUE=DATE:20250126T000000
DTSTART;VALUE=DATE:20250118T000000
DTSTAMP:20260423T103218Z
LOCATION:
DESCRIPTION:A new Pop Up Shop for Dandadan will take over Shinjuku Marui Annex this January.
SUMMARY:Dandadan POP UP SHOP in Shinjuku Marui Annex
ORGANIZER:Essential Japan
URL;VALUE=URI:https://essential-japan.com/news/dandadan-pop-up-shop-in-shinjuku-marui/
TRANSP:OPAQUE
BEGIN:VALARM
ACTION:DISPLAY
TRIGGER;VALUE=DATE-TIME:20260423T103218Z
DESCRIPTION:Reminder for Dandadan POP UP SHOP in Shinjuku Marui Annex
END:VALARM
END:VEVENT
END:VCALENDAR
        //Collect output and echo
        