BEGIN:VCALENDAR
VERSION:2.0
PRODID:-//Essential Japan //NONSGML Events //EN
CALSCALE:GREGORIAN
X-WR-CALNAME:Essential Japan
BEGIN:VEVENT
CREATED:20260417T185742Z
UID:137387
DTEND;VALUE=DATE:20260426T000000
DTSTART;VALUE=DATE:20260411T000000
DTSTAMP:20260422T104530Z
LOCATION:
DESCRIPTION: A pop up store for the smartphone game app Shinobi Master Senran Kagura NEW LINK will be held at AKIBA Cultures ZONE from April 11 to April 26, 2026 .
SUMMARY:Senran Kagura ‘Milky Maid Milk Festival’ Pop Up Shop in Tokyo 2026
ORGANIZER:Essential Japan
URL;VALUE=URI:https://essential-japan.com/events/senran-kagura-milky-maid-milk-festival-pop-up-shop-in-tokyo-2026/
TRANSP:OPAQUE
BEGIN:VALARM
ACTION:DISPLAY
TRIGGER;VALUE=DATE-TIME:20260422T104530Z
DESCRIPTION:Reminder for Senran Kagura &#8216\;Milky Maid Milk Festival&#8217\; Pop Up Shop in Tokyo 2026
END:VALARM
END:VEVENT
END:VCALENDAR
        //Collect output and echo
        