BEGIN:VCALENDAR
VERSION:2.0
PRODID:-//Essential Japan //NONSGML Events //EN
CALSCALE:GREGORIAN
X-WR-CALNAME:Essential Japan
BEGIN:VEVENT
CREATED:20260331T171511Z
UID:130250
DTEND;VALUE=DATE:20260429T000000
DTSTART;VALUE=DATE:20260402T000000
DTSTAMP:20260422T151956Z
LOCATION:
DESCRIPTION:Sweets Paradise will host the third installment of its Jujutsu Kaisen collaboration cafe across nine locations starting April 2, 2026.
SUMMARY:Jujutsu Kaisen 5th Anniversary Cafe at Sweets Paradise 2026
ORGANIZER:Essential Japan
URL;VALUE=URI:https://essential-japan.com/events/jujutsu-kaisen-5th-anniversary-cafe-at-sweets-paradise-2026/
TRANSP:OPAQUE
BEGIN:VALARM
ACTION:DISPLAY
TRIGGER;VALUE=DATE-TIME:20260422T151956Z
DESCRIPTION:Reminder for Jujutsu Kaisen 5th Anniversary Cafe at Sweets Paradise 2026
END:VALARM
END:VEVENT
END:VCALENDAR
        //Collect output and echo
        