BEGIN:VCALENDAR
VERSION:2.0
PRODID:-//Essential Japan //NONSGML Events //EN
CALSCALE:GREGORIAN
X-WR-CALNAME:Essential Japan
BEGIN:VEVENT
CREATED:20260324T161758Z
UID:130240
DTEND;VALUE=DATE:20260412T000000
DTSTART;VALUE=DATE:20260310T000000
DTSTAMP:20260422T140255Z
LOCATION:
DESCRIPTION:The popular TV anime Demon Slayer: Kimetsu no Yaiba will launch the With me period of its Valentine and White Day event at ufotable Cafe and Machi Asobi Cafe starting March 10, 2026.
SUMMARY:Demon Slayer: Kimetsu no Yaiba ‘Valentines & White Day Chocolate’ Themed Cafe 2026
ORGANIZER:Essential Japan
URL;VALUE=URI:https://essential-japan.com/events/demon-slayer-kimetsu-no-yaiba-valentines-white-day-chocolate-themed-cafe-2026/
TRANSP:OPAQUE
BEGIN:VALARM
ACTION:DISPLAY
TRIGGER;VALUE=DATE-TIME:20260422T140255Z
DESCRIPTION:Reminder for Demon Slayer: Kimetsu no Yaiba &#8216\;Valentines &amp\; White Day Chocolate&#8217\; Themed Cafe 2026
END:VALARM
END:VEVENT
END:VCALENDAR
        //Collect output and echo
        