BEGIN:VCALENDAR
VERSION:2.0
PRODID:-//Essential Japan //NONSGML Events //EN
CALSCALE:GREGORIAN
X-WR-CALNAME:Essential Japan
BEGIN:VEVENT
CREATED:20260323T180215Z
UID:130117
DTEND;VALUE=DATE:20260415T000000
DTSTART;VALUE=DATE:20260318T000000
DTSTAMP:20260420T141514Z
LOCATION:
DESCRIPTION:An anime JoJo's Bizarre Adventure special corner by Medicos Entertainment will open at Tree Village Tokyo from March 18 to April 15, 2026.
SUMMARY:JoJo’s Bizarre Adventure Store at Tree Village Tokyo 2026
ORGANIZER:Essential Japan
URL;VALUE=URI:https://essential-japan.com/events/jojos-bizarre-adventure-store-at-tree-village-tokyo-2026/
TRANSP:OPAQUE
BEGIN:VALARM
ACTION:DISPLAY
TRIGGER;VALUE=DATE-TIME:20260420T141514Z
DESCRIPTION:Reminder for JoJo&#8217\;s Bizarre Adventure Store at Tree Village Tokyo 2026
END:VALARM
END:VEVENT
END:VCALENDAR
        //Collect output and echo
        