BEGIN:VCALENDAR
VERSION:2.0
PRODID:-//Essential Japan //NONSGML Events //EN
CALSCALE:GREGORIAN
X-WR-CALNAME:Essential Japan
BEGIN:VEVENT
CREATED:20260315T192452Z
UID:127620
DTEND;VALUE=DATE:20260322T000000
DTSTART;VALUE=DATE:20260306T000000
DTSTAMP:20260423T104022Z
LOCATION:
DESCRIPTION:The AmiAmi Akihabara Figure Tower Store is set to host a special pop up event for the anime series Yosuga no Sora starting March 6.
SUMMARY:Yosuga no Sora ‘Beach Wedding’ Themed Pop Up Store in Tokyo 2026
ORGANIZER:Essential Japan
URL;VALUE=URI:https://essential-japan.com/events/yosuga-no-sora-beach-wedding-themed-pop-up-store-in-tokyo-2026/
TRANSP:OPAQUE
BEGIN:VALARM
ACTION:DISPLAY
TRIGGER;VALUE=DATE-TIME:20260423T104022Z
DESCRIPTION:Reminder for Yosuga no Sora &#8216\;Beach Wedding&#8217\; Themed Pop Up Store in Tokyo 2026
END:VALARM
END:VEVENT
END:VCALENDAR
        //Collect output and echo
        