BEGIN:VCALENDAR
VERSION:2.0
PRODID:-//Essential Japan //NONSGML Events //EN
CALSCALE:GREGORIAN
X-WR-CALNAME:Essential Japan
BEGIN:VEVENT
CREATED:20260321T213548Z
UID:127516
DTEND;VALUE=DATE:20260426T000000
DTSTART;VALUE=DATE:20260327T000000
DTSTAMP:20260421T093929Z
LOCATION:
DESCRIPTION:A new pop-up store for the theatrical film Cute High Earth Defense Club ETERNAL LOVE! is scheduled to open in Tokyo and Hyogo.
SUMMARY:Cute High Earth Defense Club ‘Maids Gathering Ver.’ Pop Up Store in Marui 2026
ORGANIZER:Essential Japan
URL;VALUE=URI:https://essential-japan.com/events/cute-high-earth-defense-club-maids-gathering-ver-pop-up-store-in-marui-2026/
TRANSP:OPAQUE
BEGIN:VALARM
ACTION:DISPLAY
TRIGGER;VALUE=DATE-TIME:20260421T093929Z
DESCRIPTION:Reminder for Cute High Earth Defense Club &#8216\;Maids Gathering Ver.&#8217\; Pop Up Store in Marui 2026
END:VALARM
END:VEVENT
END:VCALENDAR
        //Collect output and echo
        